Package: CaDrA Version: 1.5.0 Command: rm -rf CaDrA.buildbin-libdir && mkdir CaDrA.buildbin-libdir && /Users/biocbuild/BBS/utils/build-universal.sh CaDrA_1.5.0.tar.gz /Library/Frameworks/R.framework/Resources/bin/R CaDrA.buildbin-libdir StartedAt: 2025-02-03 22:43:58 -0500 (Mon, 03 Feb 2025) EndedAt: 2025-02-03 22:44:11 -0500 (Mon, 03 Feb 2025) EllapsedTime: 13.3 seconds RetCode: 0 Status: OK PackageFile: CaDrA_1.5.0.tgz PackageFileSize: 2.474 MiB