Package: CTexploreR Version: 1.5.0 Command: /home/biocbuild/R/R/bin/R CMD build --keep-empty-dirs --no-resave-data CTexploreR StartedAt: 2025-10-02 23:15:47 -0000 (Thu, 02 Oct 2025) EndedAt: 2025-10-02 23:29:37 -0000 (Thu, 02 Oct 2025) EllapsedTime: 830.6 seconds RetCode: 0 Status: OK PackageFile: CTexploreR_1.5.0.tar.gz PackageFileSize: 4.459 MiB