Package: CTexploreR Version: 1.5.0 Command: chmod a+r CTexploreR -R && F:\biocbuild\bbs-3.22-bioc\R\bin\R.exe CMD build --keep-empty-dirs --no-resave-data CTexploreR StartedAt: 2025-08-14 19:24:15 -0400 (Thu, 14 Aug 2025) EndedAt: 2025-08-14 19:44:52 -0400 (Thu, 14 Aug 2025) EllapsedTime: 1237.4 seconds RetCode: 0 Status: OK PackageFile: CTexploreR_1.5.0.tar.gz PackageFileSize: 5.376 MiB