Package: CTexploreR Version: 1.5.2 Command: /home/biocbuild/bbs-3.22-bioc/R/bin/R CMD INSTALL CTexploreR StartedAt: 2025-10-17 15:58:09 -0400 (Fri, 17 Oct 2025) EndedAt: 2025-10-17 15:58:51 -0400 (Fri, 17 Oct 2025) EllapsedTime: 41.8 seconds RetCode: 0 Status: OK