Package: CTexploreR Version: 1.5.2 Command: /home/biocbuild/bbs-3.22-bioc/R/bin/R CMD build --keep-empty-dirs --no-resave-data --md5 CTexploreR StartedAt: 2025-10-17 17:03:53 -0400 (Fri, 17 Oct 2025) EndedAt: 2025-10-17 17:16:09 -0400 (Fri, 17 Oct 2025) EllapsedTime: 735.7 seconds RetCode: 0 Status: OK PackageFile: CTexploreR_1.5.2.tar.gz PackageFileSize: 7.271 MiB