Package: CTexploreR Version: 1.5.0 Maintainer: Axelle Loriot MaintainerEmail: axelle.loriot at uclouvain.be git_url: https://git.bioconductor.org/packages/CTexploreR git_branch: devel git_last_commit: f680c7a git_last_commit_date: 2025-04-15 13:25:33 -0400 (Tue, 15 Apr 2025)