Package: CTdata Version: 1.9.0 Command: /home/biocbuild/bbs-3.22-bioc/R/bin/R CMD INSTALL CTdata StartedAt: 2025-10-10 15:38:59 -0400 (Fri, 10 Oct 2025) EndedAt: 2025-10-10 15:39:14 -0400 (Fri, 10 Oct 2025) EllapsedTime: 14.7 seconds RetCode: 0 Status: OK