Package: CTdata Version: 1.9.0 Command: /home/biocbuild/bbs-3.22-bioc/R/bin/R CMD build --keep-empty-dirs --no-resave-data --md5 CTdata StartedAt: 2025-10-10 17:17:51 -0400 (Fri, 10 Oct 2025) EndedAt: 2025-10-10 17:24:13 -0400 (Fri, 10 Oct 2025) EllapsedTime: 382.4 seconds RetCode: 0 Status: OK PackageFile: CTdata_1.9.0.tar.gz PackageFileSize: 6.972 MiB