Package: CTdata Version: 1.9.0 Command: /Library/Frameworks/R.framework/Resources/bin/R CMD build --keep-empty-dirs --no-resave-data CTdata StartedAt: 2025-05-27 16:26:18 -0400 (Tue, 27 May 2025) EndedAt: 2025-05-27 16:31:12 -0400 (Tue, 27 May 2025) EllapsedTime: 293.7 seconds RetCode: 0 Status: OK PackageFile: CTdata_1.9.0.tar.gz PackageFileSize: 6.97 MiB