Package: CTDquerier Version: 2.17.0 Command: rm -rf CTDquerier.buildbin-libdir && mkdir CTDquerier.buildbin-libdir && F:\biocbuild\bbs-3.22-bioc\R\bin\R.exe CMD INSTALL --build --library=CTDquerier.buildbin-libdir CTDquerier_2.17.0.tar.gz StartedAt: 2025-08-15 10:03:46 -0400 (Fri, 15 Aug 2025) EndedAt: 2025-08-15 10:04:09 -0400 (Fri, 15 Aug 2025) EllapsedTime: 23.5 seconds RetCode: 0 Status: OK PackageFile: CTDquerier_2.17.0.zip PackageFileSize: 2.719 MiB