Package: CTDquerier Version: 2.19.0 Command: /home/biocbuild/bbs-3.23-bioc/R/bin/R CMD INSTALL CTDquerier StartedAt: 2025-11-02 15:21:27 -0500 (Sun, 02 Nov 2025) EndedAt: 2025-11-02 15:21:35 -0500 (Sun, 02 Nov 2025) EllapsedTime: 7.9 seconds RetCode: 0 Status: OK