Package: CTDquerier Version: 2.19.0 Command: /home/biocbuild/bbs-3.23-bioc/R/bin/R CMD build --keep-empty-dirs --no-resave-data CTDquerier StartedAt: 2025-11-02 17:05:53 -0500 (Sun, 02 Nov 2025) EndedAt: 2025-11-02 17:05:56 -0500 (Sun, 02 Nov 2025) EllapsedTime: 3.0 seconds RetCode: 0 Status: OK PackageFile: CTDquerier_2.19.0.tar.gz PackageFileSize: 2.803 MiB