Package: CTDquerier Version: 2.17.0 Maintainer: Xavier EscribĂ -Montagut MaintainerEmail: xavier.escriba at isglobal.org git_url: https://git.bioconductor.org/packages/CTDquerier git_branch: devel git_last_commit: 14628b1 git_last_commit_date: 2025-04-15 12:22:08 -0400 (Tue, 15 Apr 2025)