Package: CSSQ Version: 1.21.0 Command: /home/biocbuild/R/R/bin/R CMD INSTALL CSSQ StartedAt: 2025-09-29 21:18:33 -0000 (Mon, 29 Sep 2025) EndedAt: 2025-09-29 21:19:20 -0000 (Mon, 29 Sep 2025) EllapsedTime: 46.9 seconds RetCode: 0 Status: OK