Package: CSSQ Version: 1.21.0 Command: /home/biocbuild/bbs-3.22-bioc/R/bin/R CMD check --install=check:CSSQ.install-out.txt --library=/home/biocbuild/bbs-3.22-bioc/R/site-library --timings CSSQ_1.21.0.tar.gz StartedAt: 2025-10-07 22:49:51 -0400 (Tue, 07 Oct 2025) EndedAt: 2025-10-07 22:56:24 -0400 (Tue, 07 Oct 2025) EllapsedTime: 392.4 seconds RetCode: 0 Status: OK CheckDir: CSSQ.Rcheck Warnings: 0