Package: CSSQ Version: 1.19.0 Command: /Library/Frameworks/R.framework/Resources/bin/R CMD INSTALL CSSQ StartedAt: 2025-02-03 15:24:35 -0500 (Mon, 03 Feb 2025) EndedAt: 2025-02-03 15:25:27 -0500 (Mon, 03 Feb 2025) EllapsedTime: 52.2 seconds RetCode: 0 Status: OK