Package: CSSQ Version: 1.19.0 Command: /Library/Frameworks/R.framework/Resources/bin/R CMD INSTALL CSSQ StartedAt: 2025-02-04 15:09:27 -0500 (Tue, 04 Feb 2025) EndedAt: 2025-02-04 15:09:43 -0500 (Tue, 04 Feb 2025) EllapsedTime: 15.7 seconds RetCode: 0 Status: OK