Package: CSSQ Version: 1.19.0 Command: /Library/Frameworks/R.framework/Resources/bin/R CMD check --install=check:CSSQ.install-out.txt --library=/Library/Frameworks/R.framework/Resources/library --no-vignettes --timings CSSQ_1.19.0.tar.gz StartedAt: 2025-02-04 18:45:15 -0500 (Tue, 04 Feb 2025) EndedAt: 2025-02-04 18:46:52 -0500 (Tue, 04 Feb 2025) EllapsedTime: 97.0 seconds RetCode: 0 Status: OK CheckDir: CSSQ.Rcheck Warnings: 0