Package: CSSQ Version: 1.19.0 Command: /Library/Frameworks/R.framework/Resources/bin/R CMD build --keep-empty-dirs --no-resave-data CSSQ StartedAt: 2025-02-04 16:01:30 -0500 (Tue, 04 Feb 2025) EndedAt: 2025-02-04 16:01:54 -0500 (Tue, 04 Feb 2025) EllapsedTime: 23.3 seconds RetCode: 0 Status: OK PackageFile: CSSQ_1.19.0.tar.gz PackageFileSize: 865.9 KiB