Package: CSOA Version: 0.99.2 Command: /home/biocbuild/R/R/bin/R CMD INSTALL CSOA StartedAt: 2025-10-06 20:31:31 -0000 (Mon, 06 Oct 2025) EndedAt: 2025-10-06 20:32:23 -0000 (Mon, 06 Oct 2025) EllapsedTime: 51.8 seconds RetCode: 0 Status: OK