Package: CSOA Version: 0.99.2 Command: /home/biocbuild/R/R/bin/R CMD build --keep-empty-dirs --no-resave-data CSOA StartedAt: 2025-10-06 22:58:26 -0000 (Mon, 06 Oct 2025) EndedAt: 2025-10-06 23:02:53 -0000 (Mon, 06 Oct 2025) EllapsedTime: 267.5 seconds RetCode: 0 Status: OK PackageFile: CSOA_0.99.2.tar.gz PackageFileSize: 1.548 MiB