Package: CSOA Version: 1.1.0 Command: /home/biocbuild/bbs-3.23-bioc/R/bin/R CMD INSTALL CSOA StartedAt: 2025-11-05 15:24:02 -0500 (Wed, 05 Nov 2025) EndedAt: 2025-11-05 15:24:40 -0500 (Wed, 05 Nov 2025) EllapsedTime: 38.1 seconds RetCode: 0 Status: OK