Package: CSOA Version: 1.1.0 Command: /home/biocbuild/bbs-3.23-bioc/R/bin/R CMD check --install=check:CSOA.install-out.txt --library=/home/biocbuild/bbs-3.23-bioc/R/site-library --timings CSOA_1.1.0.tar.gz StartedAt: 2025-11-26 22:28:27 -0500 (Wed, 26 Nov 2025) EndedAt: 2025-11-26 22:36:34 -0500 (Wed, 26 Nov 2025) EllapsedTime: 487.5 seconds RetCode: 0 Status: OK CheckDir: CSOA.Rcheck Warnings: 0