Package: CSAR Version: 1.61.1 Command: /home/biocbuild/R/R/bin/R CMD INSTALL CSAR StartedAt: 2025-10-20 21:24:05 -0000 (Mon, 20 Oct 2025) EndedAt: 2025-10-20 21:24:18 -0000 (Mon, 20 Oct 2025) EllapsedTime: 13.2 seconds RetCode: 0 Status: OK