Package: CSAR Version: 1.61.1 Command: /home/biocbuild/R/R/bin/R CMD build --keep-empty-dirs --no-resave-data CSAR StartedAt: 2025-10-20 23:03:20 -0000 (Mon, 20 Oct 2025) EndedAt: 2025-10-20 23:03:50 -0000 (Mon, 20 Oct 2025) EllapsedTime: 30.0 seconds RetCode: 0 Status: OK PackageFile: CSAR_1.61.1.tar.gz PackageFileSize: 225.7 KiB