Package: CSAR Version: 1.59.0 Command: /Library/Frameworks/R.framework/Resources/bin/R CMD build --keep-empty-dirs --no-resave-data CSAR StartedAt: 2025-02-16 15:54:33 -0500 (Sun, 16 Feb 2025) EndedAt: 2025-02-16 15:54:48 -0500 (Sun, 16 Feb 2025) EllapsedTime: 14.2 seconds RetCode: 0 Status: OK PackageFile: CSAR_1.59.0.tar.gz PackageFileSize: 233.6 KiB