Package: CRImage Version: 1.57.0 Command: /home/biocbuild/R/R/bin/R CMD INSTALL CRImage StartedAt: 2025-10-20 20:24:29 -0000 (Mon, 20 Oct 2025) EndedAt: 2025-10-20 20:24:43 -0000 (Mon, 20 Oct 2025) EllapsedTime: 13.9 seconds RetCode: 0 Status: OK