Package: CRImage Version: 1.55.0 Command: E:\biocbuild\bbs-3.21-bioc\R\bin\R.exe CMD INSTALL CRImage StartedAt: 2025-02-16 16:13:27 -0500 (Sun, 16 Feb 2025) EndedAt: 2025-02-16 16:13:53 -0500 (Sun, 16 Feb 2025) EllapsedTime: 26.8 seconds RetCode: 0 Status: OK