Package: CRImage Version: 1.55.0 Command: chmod a+r CRImage -R && E:\biocbuild\bbs-3.21-bioc\R\bin\R.exe CMD build --keep-empty-dirs --no-resave-data CRImage StartedAt: 2025-02-16 17:59:09 -0500 (Sun, 16 Feb 2025) EndedAt: 2025-02-16 17:59:44 -0500 (Sun, 16 Feb 2025) EllapsedTime: 34.5 seconds RetCode: 0 Status: OK PackageFile: CRImage_1.55.0.tar.gz PackageFileSize: 7.554 MiB