Package: CRImage Version: 1.55.0 Command: rm -rf CRImage.buildbin-libdir && mkdir CRImage.buildbin-libdir && E:\biocbuild\bbs-3.21-bioc\R\bin\R.exe CMD INSTALL --build --library=CRImage.buildbin-libdir CRImage_1.55.0.tar.gz StartedAt: 2025-02-17 07:18:51 -0500 (Mon, 17 Feb 2025) EndedAt: 2025-02-17 07:19:16 -0500 (Mon, 17 Feb 2025) EllapsedTime: 25.1 seconds RetCode: 0 Status: OK PackageFile: CRImage_1.55.0.zip PackageFileSize: 6.459 MiB