Package: CRImage Version: 1.55.0 Command: /home/biocbuild/R/R/bin/R CMD build --keep-empty-dirs --no-resave-data CRImage StartedAt: 2025-01-28 22:09:42 -0000 (Tue, 28 Jan 2025) EndedAt: 2025-01-28 22:10:14 -0000 (Tue, 28 Jan 2025) EllapsedTime: 32.0 seconds RetCode: 0 Status: OK PackageFile: CRImage_1.55.0.tar.gz PackageFileSize: 7.637 MiB