Package: CRISPRseek Version: 1.49.1 Command: chmod a+r CRISPRseek -R && F:\biocbuild\bbs-3.22-bioc\R\bin\R.exe CMD build --keep-empty-dirs --no-resave-data CRISPRseek StartedAt: 2025-08-14 19:22:13 -0400 (Thu, 14 Aug 2025) EndedAt: 2025-08-14 19:26:00 -0400 (Thu, 14 Aug 2025) EllapsedTime: 226.5 seconds RetCode: 0 Status: OK PackageFile: CRISPRseek_1.49.1.tar.gz PackageFileSize: 11.84 MiB