Package: CRISPRseek Version: 1.49.1 Command: rm -rf CRISPRseek.buildbin-libdir && mkdir CRISPRseek.buildbin-libdir && F:\biocbuild\bbs-3.22-bioc\R\bin\R.exe CMD INSTALL --build --library=CRISPRseek.buildbin-libdir CRISPRseek_1.49.1.tar.gz StartedAt: 2025-08-15 10:02:58 -0400 (Fri, 15 Aug 2025) EndedAt: 2025-08-15 10:04:20 -0400 (Fri, 15 Aug 2025) EllapsedTime: 81.9 seconds RetCode: 0 Status: OK PackageFile: CRISPRseek_1.49.1.zip PackageFileSize: 12.26 MiB