Package: CRISPRseek Version: 1.49.1 Command: /home/biocbuild/bbs-3.22-bioc/R/bin/R CMD build --keep-empty-dirs --no-resave-data --md5 CRISPRseek StartedAt: 2025-10-02 17:03:22 -0400 (Thu, 02 Oct 2025) EndedAt: 2025-10-02 17:06:06 -0400 (Thu, 02 Oct 2025) EllapsedTime: 164.2 seconds RetCode: 0 Status: OK PackageFile: CRISPRseek_1.49.1.tar.gz PackageFileSize: 11.85 MiB