Package: CRISPRball Version: 1.5.0 Command: /home/biocbuild/bbs-3.22-bioc/R/bin/R CMD INSTALL CRISPRball StartedAt: 2025-09-30 15:54:46 -0400 (Tue, 30 Sep 2025) EndedAt: 2025-09-30 15:55:21 -0400 (Tue, 30 Sep 2025) EllapsedTime: 34.8 seconds RetCode: 0 Status: OK