Package: CRISPRball Version: 1.3.2 Command: rm -rf CRISPRball.buildbin-libdir && mkdir CRISPRball.buildbin-libdir && /Users/biocbuild/BBS/utils/build-universal.sh CRISPRball_1.3.2.tar.gz /Library/Frameworks/R.framework/Resources/bin/R CRISPRball.buildbin-libdir StartedAt: 2024-12-24 22:20:53 -0500 (Tue, 24 Dec 2024) EndedAt: 2024-12-24 22:21:09 -0500 (Tue, 24 Dec 2024) EllapsedTime: 16.3 seconds RetCode: 0 Status: OK PackageFile: CRISPRball_1.3.2.tgz PackageFileSize: 2.299 MiB