Package: CPSM Version: 1.1.4 Command: /home/biocbuild/R/R/bin/R CMD INSTALL CPSM StartedAt: 2025-10-20 20:48:59 -0000 (Mon, 20 Oct 2025) EndedAt: 2025-10-20 20:49:42 -0000 (Mon, 20 Oct 2025) EllapsedTime: 43.5 seconds RetCode: 0 Status: OK