Package: CPSM Version: 1.3.0 Command: /home/biocbuild/bbs-3.23-bioc/R/bin/R CMD build --keep-empty-dirs --no-resave-data CPSM StartedAt: 2025-11-05 17:04:19 -0500 (Wed, 05 Nov 2025) EndedAt: 2025-11-05 17:06:57 -0500 (Wed, 05 Nov 2025) EllapsedTime: 158.1 seconds RetCode: 0 Status: OK PackageFile: CPSM_1.3.0.tar.gz PackageFileSize: 4.359 MiB