Package: CPSM Version: 1.1.4 Command: /Library/Frameworks/R.framework/Resources/bin/R CMD INSTALL CPSM StartedAt: 2025-10-03 15:31:18 -0400 (Fri, 03 Oct 2025) EndedAt: 2025-10-03 15:32:03 -0400 (Fri, 03 Oct 2025) EllapsedTime: 44.5 seconds RetCode: 0 Status: OK