Package: COTAN Version: 2.9.5 Command: chmod a+r COTAN -R && F:\biocbuild\bbs-3.22-bioc\R\bin\R.exe CMD build --keep-empty-dirs --no-resave-data COTAN StartedAt: 2025-08-14 19:20:12 -0400 (Thu, 14 Aug 2025) EndedAt: 2025-08-14 19:34:08 -0400 (Thu, 14 Aug 2025) EllapsedTime: 835.2 seconds RetCode: 0 Status: OK PackageFile: COTAN_2.9.5.tar.gz PackageFileSize: 2.763 MiB