Package: COTAN Version: 2.7.3 Command: /Library/Frameworks/R.framework/Resources/bin/R CMD INSTALL COTAN StartedAt: 2025-02-16 15:39:12 -0500 (Sun, 16 Feb 2025) EndedAt: 2025-02-16 15:40:16 -0500 (Sun, 16 Feb 2025) EllapsedTime: 64.4 seconds RetCode: 0 Status: OK