Package: COSNet Version: 1.43.0 Command: /home/biocbuild/bbs-3.22-bioc/R/bin/R CMD check --install=check:COSNet.install-out.txt --library=/home/biocbuild/bbs-3.22-bioc/R/site-library --timings COSNet_1.43.0.tar.gz StartedAt: 2025-10-23 22:26:24 -0400 (Thu, 23 Oct 2025) EndedAt: 2025-10-23 22:31:22 -0400 (Thu, 23 Oct 2025) EllapsedTime: 297.3 seconds RetCode: 0 Status: WARNINGS CheckDir: COSNet.Rcheck Warnings: 1