Package: CONSTANd Version: 1.15.0 Command: /Library/Frameworks/R.framework/Resources/bin/R CMD check --install=check:CONSTANd.install-out.txt --library=/Library/Frameworks/R.framework/Resources/library --no-vignettes --timings CONSTANd_1.15.0.tar.gz StartedAt: 2025-02-03 19:47:11 -0500 (Mon, 03 Feb 2025) EndedAt: 2025-02-03 19:47:34 -0500 (Mon, 03 Feb 2025) EllapsedTime: 23.0 seconds RetCode: 0 Status: OK CheckDir: CONSTANd.Rcheck Warnings: 0