Package: COMPASS Version: 1.47.0 Command: rm -rf COMPASS.buildbin-libdir && mkdir COMPASS.buildbin-libdir && F:\biocbuild\bbs-3.22-bioc\R\bin\R.exe CMD INSTALL --build --library=COMPASS.buildbin-libdir COMPASS_1.47.0.tar.gz StartedAt: 2025-08-15 10:00:26 -0400 (Fri, 15 Aug 2025) EndedAt: 2025-08-15 10:01:57 -0400 (Fri, 15 Aug 2025) EllapsedTime: 90.8 seconds RetCode: 0 Status: OK PackageFile: COMPASS_1.47.0.zip PackageFileSize: 1.673 MiB