Package: COMPASS Version: 1.45.0 Command: /Library/Frameworks/R.framework/Resources/bin/R CMD INSTALL COMPASS StartedAt: 2025-02-03 15:30:35 -0500 (Mon, 03 Feb 2025) EndedAt: 2025-02-03 15:31:27 -0500 (Mon, 03 Feb 2025) EllapsedTime: 51.9 seconds RetCode: 0 Status: OK