Package: COMPASS Version: 1.45.0 Command: /home/biocbuild/R/R/bin/R CMD INSTALL COMPASS StartedAt: 2025-01-29 20:07:14 -0000 (Wed, 29 Jan 2025) EndedAt: 2025-01-29 20:08:35 -0000 (Wed, 29 Jan 2025) EllapsedTime: 81.3 seconds RetCode: 0 Status: OK