Package: COMPASS Version: 1.47.0 Maintainer: Greg Finak MaintainerEmail: gfinak at fhcrc.org git_url: https://git.bioconductor.org/packages/COMPASS git_branch: devel git_last_commit: 22abef5 git_last_commit_date: 2025-04-15 10:28:48 -0400 (Tue, 15 Apr 2025)