Package: COCOA Version: 2.21.0 Command: chmod a+r COCOA -R && E:\biocbuild\bbs-3.21-bioc\R\bin\R.exe CMD build --keep-empty-dirs --no-resave-data COCOA StartedAt: 2025-01-10 17:55:46 -0500 (Fri, 10 Jan 2025) EndedAt: 2025-01-10 17:58:10 -0500 (Fri, 10 Jan 2025) EllapsedTime: 144.3 seconds RetCode: 0 Status: OK PackageFile: COCOA_2.21.0.tar.gz PackageFileSize: 2.675 MiB