Package: COCOA Version: 2.23.0 Command: rm -rf COCOA.buildbin-libdir && mkdir COCOA.buildbin-libdir && /Users/biocbuild/BBS/utils/build-universal.sh COCOA_2.23.0.tar.gz /Library/Frameworks/R.framework/Resources/bin/R COCOA.buildbin-libdir StartedAt: 2025-05-28 00:33:40 -0400 (Wed, 28 May 2025) EndedAt: 2025-05-28 00:34:40 -0400 (Wed, 28 May 2025) EllapsedTime: 60.2 seconds RetCode: 0 Status: OK PackageFile: COCOA_2.23.0.tgz PackageFileSize: 3.553 MiB