Package: CNVrd2 Version: 1.47.0 Command: rm -rf CNVrd2.buildbin-libdir && mkdir CNVrd2.buildbin-libdir && F:\biocbuild\bbs-3.22-bioc\R\bin\R.exe CMD INSTALL --build --library=CNVrd2.buildbin-libdir CNVrd2_1.47.0.tar.gz StartedAt: 2025-08-15 09:59:57 -0400 (Fri, 15 Aug 2025) EndedAt: 2025-08-15 10:00:59 -0400 (Fri, 15 Aug 2025) EllapsedTime: 61.4 seconds RetCode: 0 Status: OK PackageFile: CNVrd2_1.47.0.zip PackageFileSize: 2.639 MiB